BEGIN:VCALENDAR
VERSION:2.0
PRODID:-//Deutsche Vega-Klassenvereinigung e.V. - ECPv6.15.17//NONSGML v1.0//EN
CALSCALE:GREGORIAN
METHOD:PUBLISH
X-WR-CALNAME:Deutsche Vega-Klassenvereinigung e.V.
X-ORIGINAL-URL:https://www.albin-vega.de
X-WR-CALDESC:Veranstaltungen für Deutsche Vega-Klassenvereinigung e.V.
REFRESH-INTERVAL;VALUE=DURATION:PT1H
X-Robots-Tag:noindex
X-PUBLISHED-TTL:PT1H
BEGIN:VTIMEZONE
TZID:Europe/Berlin
BEGIN:DAYLIGHT
TZOFFSETFROM:+0100
TZOFFSETTO:+0200
TZNAME:CEST
DTSTART:20240331T010000
END:DAYLIGHT
BEGIN:STANDARD
TZOFFSETFROM:+0200
TZOFFSETTO:+0100
TZNAME:CET
DTSTART:20241027T010000
END:STANDARD
BEGIN:DAYLIGHT
TZOFFSETFROM:+0100
TZOFFSETTO:+0200
TZNAME:CEST
DTSTART:20250330T010000
END:DAYLIGHT
BEGIN:STANDARD
TZOFFSETFROM:+0200
TZOFFSETTO:+0100
TZNAME:CET
DTSTART:20251026T010000
END:STANDARD
BEGIN:DAYLIGHT
TZOFFSETFROM:+0100
TZOFFSETTO:+0200
TZNAME:CEST
DTSTART:20260329T010000
END:DAYLIGHT
BEGIN:STANDARD
TZOFFSETFROM:+0200
TZOFFSETTO:+0100
TZNAME:CET
DTSTART:20261025T010000
END:STANDARD
END:VTIMEZONE
BEGIN:VEVENT
DTSTART;TZID=Europe/Berlin:20250601T171734
DTEND;TZID=Europe/Berlin:20250601T171734
DTSTAMP:20260421T103144
CREATED:20241202T204011Z
LAST-MODIFIED:20250601T171731Z
UID:929-1748798254-1748798254@www.albin-vega.de
SUMMARY:Vega Pfingsttreffen in Heiligenhafen muss leider abgesagt werden.
DESCRIPTION:Für das Vega Pfingsttreffen in Heiligenhafen sind leider keine Anmeldungen/voraussichtliche Teilnahmen bei der Geschäftsstelle eingegangen. Das Treffen muss daher abgesagt werden.
URL:https://www.albin-vega.de/event/vega-pfingsttreffen-in-heiligenhafen/
END:VEVENT
END:VCALENDAR